BEGIN:VCALENDAR
VERSION:2.0
PRODID:-//Narrenzunft Meerrettichdämone Urloffen 2004 e.V. - ECPv6.15.20//NONSGML v1.0//EN
CALSCALE:GREGORIAN
METHOD:PUBLISH
X-WR-CALNAME:Narrenzunft Meerrettichdämone Urloffen 2004 e.V.
X-ORIGINAL-URL:https://xn--meerrettichdmone-6nb.de
X-WR-CALDESC:Veranstaltungen für Narrenzunft Meerrettichdämone Urloffen 2004 e.V.
REFRESH-INTERVAL;VALUE=DURATION:PT1H
X-Robots-Tag:noindex
X-PUBLISHED-TTL:PT1H
BEGIN:VTIMEZONE
TZID:Europe/Berlin
BEGIN:DAYLIGHT
TZOFFSETFROM:+0100
TZOFFSETTO:+0200
TZNAME:CEST
DTSTART:20250330T010000
END:DAYLIGHT
BEGIN:STANDARD
TZOFFSETFROM:+0200
TZOFFSETTO:+0100
TZNAME:CET
DTSTART:20251026T010000
END:STANDARD
BEGIN:DAYLIGHT
TZOFFSETFROM:+0100
TZOFFSETTO:+0200
TZNAME:CEST
DTSTART:20260329T010000
END:DAYLIGHT
BEGIN:STANDARD
TZOFFSETFROM:+0200
TZOFFSETTO:+0100
TZNAME:CET
DTSTART:20261025T010000
END:STANDARD
BEGIN:DAYLIGHT
TZOFFSETFROM:+0100
TZOFFSETTO:+0200
TZNAME:CEST
DTSTART:20270328T010000
END:DAYLIGHT
BEGIN:STANDARD
TZOFFSETFROM:+0200
TZOFFSETTO:+0100
TZNAME:CET
DTSTART:20271031T010000
END:STANDARD
END:VTIMEZONE
BEGIN:VEVENT
DTSTART;TZID=Europe/Berlin:20260201T140000
DTEND;TZID=Europe/Berlin:20260201T140000
DTSTAMP:20260422T110933
CREATED:20251124T204916Z
LAST-MODIFIED:20260118T225124Z
UID:506-1769954400-1769954400@xn--meerrettichdmone-6nb.de
SUMMARY:Reblandtreffen Fessenbach - Narrenzunft 'Rebknörpli' Fessenbach
DESCRIPTION:
URL:https://xn--meerrettichdmone-6nb.de/termine/reblandtreffen-fessenbach-narrenzunft-rebknoerpli-fessenbach/
LOCATION:Fessenbach\, Fessenbach\, Baden-Württemberg\, 77654\, Germany
END:VEVENT
BEGIN:VEVENT
DTSTART;TZID=Europe/Berlin:20260206T193100
DTEND;TZID=Europe/Berlin:20260206T193100
DTSTAMP:20260422T110933
CREATED:20251124T205437Z
LAST-MODIFIED:20251124T211312Z
UID:510-1770406260-1770406260@xn--meerrettichdmone-6nb.de
SUMMARY:16. Brauchtumsabend - Muckezeffner - Sackgsichter 1998 e.V
DESCRIPTION:
URL:https://xn--meerrettichdmone-6nb.de/termine/16-brauchtumsabend-muckezeffner-sackgsichter-1998-e-v/
LOCATION:Mehrzweckhalle Memprechtshofen\, Pestalozzistraße 12\, Rheinau\, Baden-Württemberg\, 77866\, Germany
END:VEVENT
BEGIN:VEVENT
DTSTART;TZID=Europe/Berlin:20260207T200000
DTEND;TZID=Europe/Berlin:20260207T200000
DTSTAMP:20260422T110933
CREATED:20251124T205947Z
LAST-MODIFIED:20251124T211304Z
UID:514-1770494400-1770494400@xn--meerrettichdmone-6nb.de
SUMMARY:Burgunderball - Narrenzunft Winschlotzer mit Burgunderhexen e.V.
DESCRIPTION:
URL:https://xn--meerrettichdmone-6nb.de/termine/burgunderball-narrenzunft-winschlotzer-mit-burgunderhexen-e-v/
LOCATION:Steinberghalle Durbach\, Tal 40\, Durbach\, Baden-Württemberg\, 77770\, Germany
END:VEVENT
BEGIN:VEVENT
DTSTART;TZID=Europe/Berlin:20260208T133100
DTEND;TZID=Europe/Berlin:20260208T133100
DTSTAMP:20260422T110933
CREATED:20251124T210343Z
LAST-MODIFIED:20251124T211255Z
UID:518-1770557460-1770557460@xn--meerrettichdmone-6nb.de
SUMMARY:Großer Jubiläumsumzug - Narrenzunft Oberkirch e.V.
DESCRIPTION:
URL:https://xn--meerrettichdmone-6nb.de/termine/grosser-jubilaeumsumzug-narrenzunft-oberkirch-e-v/
LOCATION:Oberkirch\, Oberkirch\, Baden-Württemberg\, 77704\, Germany
END:VEVENT
BEGIN:VEVENT
DTSTART;TZID=Europe/Berlin:20260211T193000
DTEND;TZID=Europe/Berlin:20260211T193000
DTSTAMP:20260422T110933
CREATED:20251124T210846Z
LAST-MODIFIED:20251124T211216Z
UID:522-1770838200-1770838200@xn--meerrettichdmone-6nb.de
SUMMARY:Wildsauball - Wildsaue vum Klingelberg e.V
DESCRIPTION:
URL:https://xn--meerrettichdmone-6nb.de/termine/wildsauball-wildsaue-vum-klingelberg-e-v/
LOCATION:Festplatz Durbach\, Grol 20\, Durbach\, Baden-Württemberg\, 77770\, Germany
END:VEVENT
BEGIN:VEVENT
DTSTART;VALUE=DATE:20260212
DTEND;VALUE=DATE:20260213
DTSTAMP:20260422T110933
CREATED:20251124T211137Z
LAST-MODIFIED:20251124T211137Z
UID:526-1770854400-1770940799@xn--meerrettichdmone-6nb.de
SUMMARY:Schmutziger Donnerstag - Narrenzunft Meerrettichdämone Urloffen 2004 e.V.
DESCRIPTION:
URL:https://xn--meerrettichdmone-6nb.de/termine/schmutziger-donnerstag-narrenzunft-meerrettichdaemone-urloffen-2004-e-v/
LOCATION:Im ganzen Dorf\, Urloffen\, Baden-Württemberg\, 77767\, Germany
END:VEVENT
BEGIN:VEVENT
DTSTART;TZID=Europe/Berlin:20260214T140000
DTEND;TZID=Europe/Berlin:20260214T140000
DTSTAMP:20260422T110933
CREATED:20251124T212257Z
LAST-MODIFIED:20251124T214848Z
UID:530-1771077600-1771077600@xn--meerrettichdmone-6nb.de
SUMMARY:Umzug - Narrenzunft Biberach e.V.
DESCRIPTION:
URL:https://xn--meerrettichdmone-6nb.de/termine/umzug-narrenzunft-biberach-e-v/
LOCATION:Ortsmitte vor dem Rathaus\, Hauptstraße\, Biberach\, Baden-Württemberg\, 77781\, Germany
END:VEVENT
BEGIN:VEVENT
DTSTART;TZID=Europe/Berlin:20260215T111100
DTEND;TZID=Europe/Berlin:20260215T111100
DTSTAMP:20260422T110933
CREATED:20251124T212803Z
LAST-MODIFIED:20251124T214823Z
UID:538-1771153860-1771153860@xn--meerrettichdmone-6nb.de
SUMMARY:Traditioneller Fasentsunndig - Narrenzunft Meerrettichdämone Urloffen 2004 e.V.
DESCRIPTION:
URL:https://xn--meerrettichdmone-6nb.de/termine/traditioneller-fasentsunndig-narrenzunft-meerrettichdaemone-urloffen-2004-e-v/
LOCATION:Im ganzen Dorf\, Urloffen\, Baden-Württemberg\, 77767\, Germany
END:VEVENT
BEGIN:VEVENT
DTSTART;TZID=Europe/Berlin:20260215T131300
DTEND;TZID=Europe/Berlin:20260215T131300
DTSTAMP:20260422T110933
CREATED:20251124T212703Z
LAST-MODIFIED:20251124T214735Z
UID:534-1771161180-1771161180@xn--meerrettichdmone-6nb.de
SUMMARY:Dorfumzug - Narrenzunft Meerrettichdämone Urloffen 2004 e.V.
DESCRIPTION:
URL:https://xn--meerrettichdmone-6nb.de/termine/dorfumzug-narrenzunft-meerrettichdaemone-urloffen-2004-e-v/
LOCATION:Dorfmitte\, Hauptstraße\, Urloffen\, Baden-Württemberg\, 77767\, Germany
END:VEVENT
BEGIN:VEVENT
DTSTART;TZID=Europe/Berlin:20260216T130000
DTEND;TZID=Europe/Berlin:20260216T130000
DTSTAMP:20260422T110933
CREATED:20251124T213746Z
LAST-MODIFIED:20251124T214713Z
UID:541-1771246800-1771246800@xn--meerrettichdmone-6nb.de
SUMMARY:Jubiläumsumzug - Narrenzunft Aichhalden e.V.
DESCRIPTION:
URL:https://xn--meerrettichdmone-6nb.de/termine/jubilaeumsumzug-narrenzunft-aichhalden-e-v/
LOCATION:Ortskern Aichhalden\, Aichhalden\, Baden-Württemberg\, 78733\, Germany
END:VEVENT
BEGIN:VEVENT
DTSTART;TZID=Europe/Berlin:20260217T141100
DTEND;TZID=Europe/Berlin:20260217T141100
DTSTAMP:20260422T110933
CREATED:20251124T214254Z
LAST-MODIFIED:20251124T214654Z
UID:545-1771337460-1771337460@xn--meerrettichdmone-6nb.de
SUMMARY:Umzug - Narrhalla Renchen "Der tolle Buz" e. V.
DESCRIPTION:
URL:https://xn--meerrettichdmone-6nb.de/termine/umzug-narrhalla-renchen-der-tolle-buz-e-v/
LOCATION:Ortsmitte\, Renchen\, Baden-Württemberg\, 77871\, Germany
END:VEVENT
BEGIN:VEVENT
DTSTART;VALUE=DATE:20260218
DTEND;VALUE=DATE:20260219
DTSTAMP:20260422T110933
CREATED:20251124T214324Z
LAST-MODIFIED:20251124T214324Z
UID:549-1771372800-1771459199@xn--meerrettichdmone-6nb.de
SUMMARY:Achermittwoch
DESCRIPTION:
URL:https://xn--meerrettichdmone-6nb.de/termine/achermittwoch/
LOCATION:Baden-Württemberg
END:VEVENT
BEGIN:VEVENT
DTSTART;VALUE=DATE:20260222
DTEND;VALUE=DATE:20260223
DTSTAMP:20260422T110933
CREATED:20251124T214539Z
LAST-MODIFIED:20251124T214539Z
UID:551-1771718400-1771804799@xn--meerrettichdmone-6nb.de
SUMMARY:Buurefasnacht - Interessengemeinschaft Weiler Strassenfasnacht e. V.
DESCRIPTION:
URL:https://xn--meerrettichdmone-6nb.de/termine/buurefasnacht-interessengemeinschaft-weiler-strassenfasnacht-e-v/
LOCATION:Entlang der Hauptstraße\, Hauptstraße\, Weil am Rhein\, Baden-Württemberg\, 79576\, Germany
END:VEVENT
END:VCALENDAR