BEGIN:VCALENDAR
VERSION:2.0
PRODID:-//Narrenzunft Meerrettichdämone Urloffen 2004 e.V. - ECPv6.15.20//NONSGML v1.0//EN
CALSCALE:GREGORIAN
METHOD:PUBLISH
X-ORIGINAL-URL:https://xn--meerrettichdmone-6nb.de
X-WR-CALDESC:Veranstaltungen für Narrenzunft Meerrettichdämone Urloffen 2004 e.V.
REFRESH-INTERVAL;VALUE=DURATION:PT1H
X-Robots-Tag:noindex
X-PUBLISHED-TTL:PT1H
BEGIN:VTIMEZONE
TZID:Europe/Berlin
BEGIN:DAYLIGHT
TZOFFSETFROM:+0100
TZOFFSETTO:+0200
TZNAME:CEST
DTSTART:20250330T010000
END:DAYLIGHT
BEGIN:STANDARD
TZOFFSETFROM:+0200
TZOFFSETTO:+0100
TZNAME:CET
DTSTART:20251026T010000
END:STANDARD
BEGIN:DAYLIGHT
TZOFFSETFROM:+0100
TZOFFSETTO:+0200
TZNAME:CEST
DTSTART:20260329T010000
END:DAYLIGHT
BEGIN:STANDARD
TZOFFSETFROM:+0200
TZOFFSETTO:+0100
TZNAME:CET
DTSTART:20261025T010000
END:STANDARD
BEGIN:DAYLIGHT
TZOFFSETFROM:+0100
TZOFFSETTO:+0200
TZNAME:CEST
DTSTART:20270328T010000
END:DAYLIGHT
BEGIN:STANDARD
TZOFFSETFROM:+0200
TZOFFSETTO:+0100
TZNAME:CET
DTSTART:20271031T010000
END:STANDARD
END:VTIMEZONE
BEGIN:VEVENT
DTSTART;TZID=Europe/Berlin:20260106T111100
DTEND;TZID=Europe/Berlin:20260106T111100
DTSTAMP:20260422T123906
CREATED:20251124T075625Z
LAST-MODIFIED:20251124T211443Z
UID:427-1767697860-1767697860@xn--meerrettichdmone-6nb.de
SUMMARY:"ab ins Häs - das Eröffnungsspektakel in Urloffen" - NZ Stongebach-Hopser vom Meerrettichdorf Urloffen e.V.
DESCRIPTION:
URL:https://xn--meerrettichdmone-6nb.de/termine/ab-ins-haes-das-eroeffnungsspektakel-in-urloffen-nz-stongebach-hopser-vom-meerrettichdorf-urloffen-e-v/
LOCATION:Jahnturnhalle Urloffen\, Jahnstraße 1\, Appenweier\, Baden-Württemberg\, 77767\, Germany
END:VEVENT
BEGIN:VEVENT
DTSTART;TZID=Europe/Berlin:20260109T190100
DTEND;TZID=Europe/Berlin:20260109T190100
DTSTAMP:20260422T123906
CREATED:20251124T080036Z
LAST-MODIFIED:20251124T211434Z
UID:431-1767985260-1767985260@xn--meerrettichdmone-6nb.de
SUMMARY:Hexenball - Mörchwaldhexen Erlach e.V.
DESCRIPTION:
URL:https://xn--meerrettichdmone-6nb.de/termine/hexenball-moerchwaldhexen-erlach-e-v/
LOCATION:Kronenhalle Erlach\, Mühlenstraße 4\, Renchen\, Baden-Württemberg\, 77871\, Germany
END:VEVENT
BEGIN:VEVENT
DTSTART;TZID=Europe/Berlin:20260110T190100
DTEND;TZID=Europe/Berlin:20260110T190100
DTSTAMP:20260422T123906
CREATED:20251124T080452Z
LAST-MODIFIED:20251124T211426Z
UID:435-1768071660-1768071660@xn--meerrettichdmone-6nb.de
SUMMARY:14. Dämonennacht - Auemer Wallgrawe Dämonen e.V.
DESCRIPTION:
URL:https://xn--meerrettichdmone-6nb.de/termine/14-daemonennacht-auemer-wallgrawe-daemonen-e-v/
LOCATION:Sporthalle Auenheim\, An den Sportanlagen 1\, Kehl\, Baden-Württemberg\, 77694\, Germany
END:VEVENT
BEGIN:VEVENT
DTSTART;TZID=Europe/Berlin:20260116T191100
DTEND;TZID=Europe/Berlin:20260116T191100
DTSTAMP:20260422T123906
CREATED:20251124T081254Z
LAST-MODIFIED:20251124T211417Z
UID:439-1768590660-1768590660@xn--meerrettichdmone-6nb.de
SUMMARY:21. Gaisenacht - Kappler Rebgaise e.V. 2002
DESCRIPTION:
URL:https://xn--meerrettichdmone-6nb.de/termine/21-gaisenacht-kappler-rebgaise-e-v-2002/
LOCATION:Achertalhalle Kappelrodeck\, Jahnstraße 4\, Kappelrodeck\, Baden-Württemberg\, 77876\, Germany
END:VEVENT
BEGIN:VEVENT
DTSTART;TZID=Europe/Berlin:20260117T190100
DTEND;TZID=Europe/Berlin:20260117T190100
DTSTAMP:20260422T123906
CREATED:20251124T091005Z
LAST-MODIFIED:20251124T211411Z
UID:443-1768676460-1768676460@xn--meerrettichdmone-6nb.de
SUMMARY:Zunftabend - Plauelbach Ille Odelshofen
DESCRIPTION:
URL:https://xn--meerrettichdmone-6nb.de/termine/zunftabend-plauelbach-ille-odelshofen/
LOCATION:Gemeindehalle Odelshofen\, Rottstrasse 14\, Kehl\, Baden-Württemberg\, 77694\, Germany
END:VEVENT
BEGIN:VEVENT
DTSTART;TZID=Europe/Berlin:20260118T133100
DTEND;TZID=Europe/Berlin:20260118T133100
DTSTAMP:20260422T123906
CREATED:20251124T133810Z
LAST-MODIFIED:20251124T211354Z
UID:447-1768743060-1768743060@xn--meerrettichdmone-6nb.de
SUMMARY:Umzug - Plauelbach Ille Odelshofen e.V.
DESCRIPTION:
URL:https://xn--meerrettichdmone-6nb.de/termine/umzug-plauelbach-ille-odelshofen-e-v/
LOCATION:Odelshofen\, Odelshofen\, Baden-Württemberg\, Germany
END:VEVENT
BEGIN:VEVENT
DTSTART;TZID=Europe/Berlin:20260124T190000
DTEND;TZID=Europe/Berlin:20260124T190000
DTSTAMP:20260422T123906
CREATED:20251124T203008Z
LAST-MODIFIED:20251124T211345Z
UID:494-1769281200-1769281200@xn--meerrettichdmone-6nb.de
SUMMARY:Hexenball - Korker Feuerhexen e.V.
DESCRIPTION:
URL:https://xn--meerrettichdmone-6nb.de/termine/hexenball-korker-feuerhexen-e-v/
LOCATION:Gemeindehalle Kork\, Oberdorfstr. 6\, Kehl\, Baden-Württemberg\, 77694\, Germany
END:VEVENT
BEGIN:VEVENT
DTSTART;TZID=Europe/Berlin:20260130T180000
DTEND;TZID=Europe/Berlin:20260130T180000
DTSTAMP:20260422T123906
CREATED:20251124T203816Z
LAST-MODIFIED:20251124T211337Z
UID:498-1769796000-1769796000@xn--meerrettichdmone-6nb.de
SUMMARY:Narrenbaumstellen - Pfannenschleckerzunft Rheinbischofsheim e.V
DESCRIPTION:
URL:https://xn--meerrettichdmone-6nb.de/termine/narrenbaumstellen-pfannenschleckerzunft-rheinbischofsheim-e-v/
LOCATION:auf dem Lindenplatz\, Graf-Reinhard-Halle\, Kirchstraße 5\, Rheinau\, Baden-Württemberg\, 77866\, Germany
END:VEVENT
BEGIN:VEVENT
DTSTART;TZID=Europe/Berlin:20260131T141100
DTEND;TZID=Europe/Berlin:20260131T141100
DTSTAMP:20260422T123906
CREATED:20251124T204321Z
LAST-MODIFIED:20251124T211320Z
UID:502-1769868660-1769868660@xn--meerrettichdmone-6nb.de
SUMMARY:Jubiläumsumzug 66 Jahre Zimmeria Hornussia - Narrenverein Zimmeria Hornussia 1960 e.V. Urloffen
DESCRIPTION:
URL:https://xn--meerrettichdmone-6nb.de/termine/jubilaeumsumzug-66-jahre-zimmeria-hornussia-narrenverein-zimmeria-hornussia-1960-e-v-urloffen/
LOCATION:Urloffen\, Urloffen\, Baden-Württemberg\, 77767\, Germany
END:VEVENT
END:VCALENDAR