BEGIN:VCALENDAR
VERSION:2.0
PRODID:-//Narrenzunft Meerrettichdämone Urloffen 2004 e.V. - ECPv6.15.20//NONSGML v1.0//EN
CALSCALE:GREGORIAN
METHOD:PUBLISH
X-WR-CALNAME:Narrenzunft Meerrettichdämone Urloffen 2004 e.V.
X-ORIGINAL-URL:https://xn--meerrettichdmone-6nb.de
X-WR-CALDESC:Veranstaltungen für Narrenzunft Meerrettichdämone Urloffen 2004 e.V.
REFRESH-INTERVAL;VALUE=DURATION:PT1H
X-Robots-Tag:noindex
X-PUBLISHED-TTL:PT1H
BEGIN:VTIMEZONE
TZID:Europe/Berlin
BEGIN:DAYLIGHT
TZOFFSETFROM:+0100
TZOFFSETTO:+0200
TZNAME:CEST
DTSTART:20250330T010000
END:DAYLIGHT
BEGIN:STANDARD
TZOFFSETFROM:+0200
TZOFFSETTO:+0100
TZNAME:CET
DTSTART:20251026T010000
END:STANDARD
BEGIN:DAYLIGHT
TZOFFSETFROM:+0100
TZOFFSETTO:+0200
TZNAME:CEST
DTSTART:20260329T010000
END:DAYLIGHT
BEGIN:STANDARD
TZOFFSETFROM:+0200
TZOFFSETTO:+0100
TZNAME:CET
DTSTART:20261025T010000
END:STANDARD
BEGIN:DAYLIGHT
TZOFFSETFROM:+0100
TZOFFSETTO:+0200
TZNAME:CEST
DTSTART:20270328T010000
END:DAYLIGHT
BEGIN:STANDARD
TZOFFSETFROM:+0200
TZOFFSETTO:+0100
TZNAME:CET
DTSTART:20271031T010000
END:STANDARD
END:VTIMEZONE
BEGIN:VEVENT
DTSTART;VALUE=DATE:20260218
DTEND;VALUE=DATE:20260219
DTSTAMP:20260422T141124
CREATED:20251124T214324Z
LAST-MODIFIED:20251124T214324Z
UID:549-1771372800-1771459199@xn--meerrettichdmone-6nb.de
SUMMARY:Achermittwoch
DESCRIPTION:
URL:https://xn--meerrettichdmone-6nb.de/termine/achermittwoch/
LOCATION:Baden-Württemberg
END:VEVENT
END:VCALENDAR