BEGIN:VCALENDAR
VERSION:2.0
PRODID:-//Narrenzunft Meerrettichdämone Urloffen 2004 e.V. - ECPv6.15.20//NONSGML v1.0//EN
CALSCALE:GREGORIAN
METHOD:PUBLISH
X-ORIGINAL-URL:https://xn--meerrettichdmone-6nb.de
X-WR-CALDESC:Veranstaltungen für Narrenzunft Meerrettichdämone Urloffen 2004 e.V.
REFRESH-INTERVAL;VALUE=DURATION:PT1H
X-Robots-Tag:noindex
X-PUBLISHED-TTL:PT1H
BEGIN:VTIMEZONE
TZID:Europe/Berlin
BEGIN:DAYLIGHT
TZOFFSETFROM:+0100
TZOFFSETTO:+0200
TZNAME:CEST
DTSTART:20250330T010000
END:DAYLIGHT
BEGIN:STANDARD
TZOFFSETFROM:+0200
TZOFFSETTO:+0100
TZNAME:CET
DTSTART:20251026T010000
END:STANDARD
BEGIN:DAYLIGHT
TZOFFSETFROM:+0100
TZOFFSETTO:+0200
TZNAME:CEST
DTSTART:20260329T010000
END:DAYLIGHT
BEGIN:STANDARD
TZOFFSETFROM:+0200
TZOFFSETTO:+0100
TZNAME:CET
DTSTART:20261025T010000
END:STANDARD
BEGIN:DAYLIGHT
TZOFFSETFROM:+0100
TZOFFSETTO:+0200
TZNAME:CEST
DTSTART:20270328T010000
END:DAYLIGHT
BEGIN:STANDARD
TZOFFSETFROM:+0200
TZOFFSETTO:+0100
TZNAME:CET
DTSTART:20271031T010000
END:STANDARD
END:VTIMEZONE
BEGIN:VEVENT
DTSTART;TZID=Europe/Berlin:20260208T133100
DTEND;TZID=Europe/Berlin:20260208T133100
DTSTAMP:20260422T122244
CREATED:20251124T210343Z
LAST-MODIFIED:20251124T211255Z
UID:518-1770557460-1770557460@xn--meerrettichdmone-6nb.de
SUMMARY:Großer Jubiläumsumzug - Narrenzunft Oberkirch e.V.
DESCRIPTION:
URL:https://xn--meerrettichdmone-6nb.de/termine/grosser-jubilaeumsumzug-narrenzunft-oberkirch-e-v/
LOCATION:Oberkirch\, Oberkirch\, Baden-Württemberg\, 77704\, Germany
END:VEVENT
END:VCALENDAR